BEGIN:VCALENDAR
VERSION:2.0
PRODID:-//Stadtverband Regensburg - ECPv6.15.20//NONSGML v1.0//EN
CALSCALE:GREGORIAN
METHOD:PUBLISH
X-ORIGINAL-URL:https://gruene-regensburg.de
X-WR-CALDESC:Veranstaltungen für Stadtverband Regensburg
REFRESH-INTERVAL;VALUE=DURATION:PT1H
X-Robots-Tag:noindex
X-PUBLISHED-TTL:PT1H
BEGIN:VTIMEZONE
TZID:Europe/Berlin
BEGIN:DAYLIGHT
TZOFFSETFROM:+0100
TZOFFSETTO:+0200
TZNAME:CEST
DTSTART:20200329T010000
END:DAYLIGHT
BEGIN:STANDARD
TZOFFSETFROM:+0200
TZOFFSETTO:+0100
TZNAME:CET
DTSTART:20201025T010000
END:STANDARD
BEGIN:DAYLIGHT
TZOFFSETFROM:+0100
TZOFFSETTO:+0200
TZNAME:CEST
DTSTART:20210328T010000
END:DAYLIGHT
BEGIN:STANDARD
TZOFFSETFROM:+0200
TZOFFSETTO:+0100
TZNAME:CET
DTSTART:20211031T010000
END:STANDARD
BEGIN:DAYLIGHT
TZOFFSETFROM:+0100
TZOFFSETTO:+0200
TZNAME:CEST
DTSTART:20220327T010000
END:DAYLIGHT
BEGIN:STANDARD
TZOFFSETFROM:+0200
TZOFFSETTO:+0100
TZNAME:CET
DTSTART:20221030T010000
END:STANDARD
END:VTIMEZONE
BEGIN:VEVENT
DTSTART;TZID=Europe/Berlin:20210309T190000
DTEND;TZID=Europe/Berlin:20210309T210000
DTSTAMP:20260424T233550
CREATED:20210301T135821Z
LAST-MODIFIED:20210301T141157Z
UID:4167-1615316400-1615323600@gruene-regensburg.de
SUMMARY:Deutsch werden\, geht das? - Staatsbürgerschaftsrecht zwischen Recht und Praxis mit Jürgen Mistol
DESCRIPTION:Unser Regens­bur­ger Land­tags­ab­ge­ord­ne­ter\, Jür­gen Mis­tol dis­ku­tiert mit:\nKatha­ri­na Schul­ze\, Vor­sit­zen­de der Frak­ti­on Bünd­nis 90/Die Grü­nen im Baye­ri­schen Landtag\nDeli­ja Bali­de­maj\, Bezirks­rat Ober­bay­ern und Integrationsbeauftragter\nSad­af Balutsch\, Stu­den­tin an der Tech­ni­schen Uni­ver­si­tät Dresden\nWir wol­len über die sys­te­mi­schen und prak­ti­schen Hür­den des Staats­bür­ger­schafts­rechts und des Ein­bür­ge­rungs­ver­fah­rens in Deutsch­land infor­mie­ren und dis­ku­tie­ren. Denn der Zugang zur deut­schen Staats­bür­ger­schaft ist nicht nur für staa­ten­lo­se Men­schen wich­tig\, son­dern auch für Men­schen\, die nach Deutsch­land zuwan­dern und deren Kin­der\, die hier gebo­ren wer­den und auf­wach­sen. Im Mit­tel­punkt ste­hen die Fra­gen: Wer gilt in Deutsch­land als deutsch? Wel­che Vor­aus­set­zun­gen müs­sen die Men­schen für eine Ein­bür­ge­rung erfül­len? Wel­che sys­te­mi­schen und prak­ti­schen Hür­den hat das Ein­bür­ge­rungs­ver­fah­ren und wie kön­nen wir das ändern? Wel­che poli­ti­schen Lösungs­an­sät­ze gibt es?\nAnmel­dun­gen und Rück­fra­gen bit­te an simone.maass@gruene-fraktion-bayern.de.\nSie erhal­ten recht­zei­tig die Zoom-Ein­wahl­da­ten für die Online-Veranstaltung.
URL:https://gruene-regensburg.de/events/deutsch-werden-geht-das-staatsbuergerschaftsrecht-zwischen-recht-und-praxis-mit-juergen-mistol/
END:VEVENT
END:VCALENDAR