BEGIN:VCALENDAR
VERSION:2.0
PRODID:-//Stadtverband Regensburg - ECPv6.15.20//NONSGML v1.0//EN
CALSCALE:GREGORIAN
METHOD:PUBLISH
X-WR-CALNAME:Stadtverband Regensburg
X-ORIGINAL-URL:https://gruene-regensburg.de
X-WR-CALDESC:Veranstaltungen für Stadtverband Regensburg
REFRESH-INTERVAL;VALUE=DURATION:PT1H
X-Robots-Tag:noindex
X-PUBLISHED-TTL:PT1H
BEGIN:VTIMEZONE
TZID:Europe/Berlin
BEGIN:DAYLIGHT
TZOFFSETFROM:+0100
TZOFFSETTO:+0200
TZNAME:CEST
DTSTART:20250330T010000
END:DAYLIGHT
BEGIN:STANDARD
TZOFFSETFROM:+0200
TZOFFSETTO:+0100
TZNAME:CET
DTSTART:20251026T010000
END:STANDARD
BEGIN:DAYLIGHT
TZOFFSETFROM:+0100
TZOFFSETTO:+0200
TZNAME:CEST
DTSTART:20260329T010000
END:DAYLIGHT
BEGIN:STANDARD
TZOFFSETFROM:+0200
TZOFFSETTO:+0100
TZNAME:CET
DTSTART:20261025T010000
END:STANDARD
BEGIN:DAYLIGHT
TZOFFSETFROM:+0100
TZOFFSETTO:+0200
TZNAME:CEST
DTSTART:20270328T010000
END:DAYLIGHT
BEGIN:STANDARD
TZOFFSETFROM:+0200
TZOFFSETTO:+0100
TZNAME:CET
DTSTART:20271031T010000
END:STANDARD
END:VTIMEZONE
BEGIN:VEVENT
DTSTART;TZID=Europe/Berlin:20260424T190000
DTEND;TZID=Europe/Berlin:20260424T213000
DTSTAMP:20260425T005720
CREATED:20260414T100639Z
LAST-MODIFIED:20260415T072440Z
UID:11902-1777057200-1777066200@gruene-regensburg.de
SUMMARY:Filmabend “Cycling Cities”
DESCRIPTION:Der AK Stadt­end­wick­lung und Ver­kehr schaut gemein­sam den inspi­rie­ren­den Doku­men­tar­film “Cycling Cities”. Alle Inter­es­sier­te sind herz­lich ein­ge­la­den\, egal ob Mit­glied oder nicht! \n\n\n\nIn dem Film reist der Jour­na­list und Fil­me­ma­cher Ing­war Pero­wa­no­witsch per Rad durch Euro­pa und besucht ver­schie­de­ne Städ­te\, die als beson­ders lebens­wert gel­ten. Er spricht mit Planer*innen\, poli­ti­schen Ver­ant­wort­li­chen und vie­len enga­gier­ten Men­schen. Die Doku­men­ta­ti­on zeigt\, was die schöns­ten Fahr­rad­städ­te Euro­pas aus­zeich­net und wie ent­schlos­se­nes Han­deln den öffent­li­chen Raum neu ver­tei­len und unse­re Lebens­qua­li­tät stei­gern kann. Seit dem 13. Dezem­ber läuft der Film frei auf YouTube. \n\n\n\nDas Tref­fen fin­det im Grü­nen Büro statt. Die­ses befin­det sich im Erd­ge­schoss und ist stu­fen­los erreich­bar. Unse­re Toi­let­te ist eben­falls stu­fen­los erreich­bar\, aber lei­der nicht barrierefrei.
URL:https://gruene-regensburg.de/events/filmabend-cycling-cities/
LOCATION:Grünes Büro (Kreisgeschäftsstelle)\, Wollwirkergasse 17\, Regensburg\, Bayern\, 93047\, Germany
CATEGORIES:AK-Treffen
ATTACH;FMTTYPE=image/png:https://gruene-regensburg.de/wp-content/uploads/2026/04/KV-AK-Stadtentwicklung-24.04.-2.png
END:VEVENT
END:VCALENDAR